BEGIN:VCALENDAR
VERSION:2.0
PRODID:-//Centro Social de Convivencia Olivar Plaza. Cohousing - ECPv6.9.0//NONSGML v1.0//EN
CALSCALE:GREGORIAN
METHOD:PUBLISH
X-WR-CALNAME:Centro Social de Convivencia Olivar Plaza. Cohousing
X-ORIGINAL-URL:https://olivarplaza.es
X-WR-CALDESC:Eventos para Centro Social de Convivencia Olivar Plaza. Cohousing
REFRESH-INTERVAL;VALUE=DURATION:PT1H
X-Robots-Tag:noindex
X-PUBLISHED-TTL:PT1H
BEGIN:VTIMEZONE
TZID:UTC
BEGIN:STANDARD
TZOFFSETFROM:+0000
TZOFFSETTO:+0000
TZNAME:UTC
DTSTART:20250101T000000
END:STANDARD
END:VTIMEZONE
BEGIN:VEVENT
DTSTART;TZID=UTC:20250212T170000
DTEND;TZID=UTC:20250212T180000
DTSTAMP:20260423T104639
CREATED:20250211T170933Z
LAST-MODIFIED:20250211T170933Z
UID:1628-1739379600-1739383200@olivarplaza.es
SUMMARY:Café cohousing 12 de febrero a las 17 horas
DESCRIPTION:Nos reunimos con  personas interesadas como tú para que puedas saber sobre el Proyecto de Convivencia Olivar Plaza\, y también conocernos personalmente a quienes ya componemos el Grupo Semilla.\nPodrás escuchar\, o preguntar si es tu deseo\, tranquilamente\, sobre lo que tú precises conocer.\nEn esta ocasión es el miércoles 12 de febrero de 17 a 18 horas.\nEstaremos en esta agradable cafetería de Sevilla\, junto a la parada de Metro de Parque de los Príncipes (Enlace a Google Maps):\n\nCafetería La Industrial Calle República Argentina\, 33. Sevilla\n\n \nTerminado el café\, podrás también asistir si es tu deseo a la  conferencia que realizaremos\, contando con la colaboración de nuestro colaborador Prudencio López\, especialista en dinamización y aprendizaje de Comunidades Colaborativas.   \nAvísanos si quieres de tu venida al café\, enviándonos un mensaje al 667 341 753. Atiende Joaquín.
URL:https://olivarplaza.es/encuentro/cafe-cohousing-12-de-febrero-a-las-17-horas/
END:VEVENT
BEGIN:VEVENT
DTSTART;TZID=UTC:20250215T110000
DTEND;TZID=UTC:20250215T180000
DTSTAMP:20260423T104639
CREATED:20250211T170105Z
LAST-MODIFIED:20250211T170105Z
UID:1625-1739617200-1739642400@olivarplaza.es
SUMMARY:Ruta de senderismo el sábado 15 de febrero
DESCRIPTION:Nos disponemos pasar un día de senderismo por el Aljarafe Sevillano. sin alejarnos mucho de Sevilla. Pasearemos por la Ribera del Pudio y después comeremos juntos.  Todo ello rodeados de gente agradable\, que comparte un propósito de vida como es formar una comunidad de amigos. \nSaldremos de nuestro terreno en la calle Soladores de Gines (Sevilla) al que podrás llegar siguiendo el siguiente enlace \nhttps://www.bing.com/search?go=Buscar&q=calle+alba%C3%B1ileria+gines+sevilla&qs=ds&form=QBRE \nSi te apetece acompañarnos avísanos por WhatsApp al teléfono 667341753 para organizarnos y poder reservar para comer juntos. \nLa ruta es apta para todos los públicos y puedes verla en el siguiente enlace.
URL:https://olivarplaza.es/encuentro/ruta-de-senderismo-el-sabado-15-de-febrero/
END:VEVENT
BEGIN:VEVENT
DTSTART;TZID=UTC:20250219T110000
DTEND;TZID=UTC:20250219T120000
DTSTAMP:20260423T104639
CREATED:20250127T165007Z
LAST-MODIFIED:20250129T091624Z
UID:1561-1739962800-1739966400@olivarplaza.es
SUMMARY:19 de febrero. Encuentro en Centro de Participación Activa Ciudad Jardín. Sevilla
DESCRIPTION:CHARLA ENCUENTRO: «VIVIR CON PLENITUD EN TU MADUREZ EN SEVILLA»\n \nImpartido por Joaquín Salvador Lima\, representante del Colectivo Olivar Plaza\, Centro de Convivencia Cohousing en Sevilla.  \nEsta es una invitación para que puedas asistir y conocer las modernas soluciones que se están implantando ya en muchas partes de nuestro territorio nacional\, con un proyecto ya en Sevilla de pronta construcción\, y que están revolucionando la manera de entender el bienestar\, la salud y la alegría de vivir\, en las distintas etapas de nuestra madurez.\nTe gustará la propuesta de compartir entre personas afines\, entre los que harás buenos compañeros de viaje en esta etapa de Vida\, plena de sentido\, en mutuo apoyo.\n\nEste formulario te permitirá informarte personalmente de los detalles que para ti sean prioritarios: https://tinyurl.com/SevillaCohOlivarForm\nNos gustará conocerte\, y que nos conozcas!!\n\n\n  \n  \n  \n#Cohousing #Living #Sénior #Intergeneracional #ViviendaColaborativa #Gines #Sevilla #Andalucía #Cooperativa #CooperativaVivienda
URL:https://olivarplaza.es/encuentro/19-de-febrero-encuentro-en-centro-de-participacion-activa-ciudad-jardin-sevilla/
LOCATION:Centro de Participación Activa Ciudad Jardín. Sevilla\, C. Martín de Gainza\, Sn\,\, Sevilla\, Sevilla\, 41005\, Spain
ORGANIZER;CN="Joaqu%C3%ADn Lima":MAILTO:joaquinlimaro@gmail.com
END:VEVENT
END:VCALENDAR